BEGIN:VCALENDAR
VERSION:2.0
PRODID:-//Tukios.com/
BEGIN:VEVENT
UID:98f58e04-0c69-4d00-a46a-ef1796b89665@www.harkeyfunerals.com
DTSTAMP:20260423T225852Z
DTSTART:20260426T200000Z
DTEND:20260426T230000Z
SUMMARY:Visitation
DESCRIPTION:
URL:https://www.harkeyfunerals.com/obituaries/isis-garza
LOCATION: 210 S Allen Ave  Monahans TX 79756
GEO:31.5933522;-102.8911712
END:VEVENT
END:VCALENDAR