BEGIN:VCALENDAR
VERSION:2.0
PRODID:-//Tukios.com/
BEGIN:VEVENT
UID:ce8fb9ee-6813-44f9-92ad-d6af53ee54d4@www.harkeyfunerals.com
DTSTAMP:20260423T225811Z
DTSTART:20260427T150000Z
DTEND:20260428T010000Z
SUMMARY:Visitation
DESCRIPTION:
URL:https://www.harkeyfunerals.com/obituaries/isis-garza
LOCATION: 210 S Allen Ave  Monahans TX 79756
GEO:31.5933522;-102.8911712
END:VEVENT
END:VCALENDAR