BEGIN:VCALENDAR
VERSION:2.0
PRODID:-//Tukios.com/
BEGIN:VEVENT
UID:5aacf6e6-f5c8-43fa-9a95-ce3d71fa18fa@www.harkeyfunerals.com
DTSTAMP:20260423T225851Z
DTSTART:20260428T150000Z
DTEND:20260428T160000Z
SUMMARY:Funeral Service
DESCRIPTION:
URL:https://www.harkeyfunerals.com/obituaries/isis-garza
LOCATION: 103 D Ave  Grandfalls TX 79742
GEO:31.3398086;-102.8519106
END:VEVENT
END:VCALENDAR