BEGIN:VCALENDAR
VERSION:2.0
PRODID:-//Tukios.com/
BEGIN:VEVENT
UID:fcc7b966-2897-4331-b81e-b5af1f44611b@www.harkeyfunerals.com
DTSTAMP:20260423T225944Z
DTSTART:20260428T160000Z
DTEND:20260428T170000Z
SUMMARY:Interment
DESCRIPTION:
URL:https://www.harkeyfunerals.com/obituaries/isis-garza
LOCATION:    Grandfalls TX 79742
GEO:31.3267823;-102.8398001
END:VEVENT
END:VCALENDAR